BEGIN:VCALENDAR
VERSION:2.0
PRODID:-//hacksw/handcal//NONSGML v1.0//EN
BEGIN:VEVENT
SUMMARY:KID athle du LAC 13 juin 2026
UID:4638ba07-5d8b-41f2-88d4-5db8c47d591f
DTSTART:20260613T113000Z
DTEND:20260613T153000Z
LOCATION:Localisation piste d'athletise - Stade de Coubertin 11400 Castelnaudary
CATEGORIES:Sportif
STATUS:
DESCRIPTION:<p>😃 <strong><span style="color:#6633ff;">ENCORE UN
 PEU DE PATIENCE POUR LES INFOS SUR LE KID ATHLE DU LAC 25-26
 ! </span></strong>💙</p>
 
 <p>Le Kid athle est une rencontre
 athletique pour les Eveil athletiques et les Poussins (7 a 11
 ans).</p>
 
 <p>Elle rassemble les athletes des clubs d'athletisme de
 l'Aude, et se seroule par equipes de club mixtes. Chaque athlete
 participe a toutes les activites proposees et marque des points pour
 son equipe.</p>
 
 <p>La rencontre se termine par un gouter et
 l'annonce du classement des equipes. Chaque jeune est recompense pour
 sa participation.</p>
 
 <p> </p>
URL;VALUE=URI:https://lac11.sportsregions.fr/evenements/2026/06/13/kid-athle-du-lac-13-juin-2026-2428491
END:VEVENT
END:VCALENDAR
