BEGIN:VCALENDAR
VERSION:2.0
PRODID:-//hacksw/handcal//NONSGML v1.0//EN
BEGIN:VEVENT
SUMMARY:Championnat departemental d'epreuves individuelles
UID:645efdf5-d53a-4fbd-8cdf-ca3887cef43e
DTSTART:20260410T220000Z
DTEND:20260412T220000Z
LOCATION:Localisation Stage Andre Alsina 66000 Perpignan
CATEGORIES:Sportif
STATUS:
DESCRIPTION:<p>Voir le programme : <a
 href="https://cda66.athle.fr/upload/ssites/001416/competitions/260411.pdf"
 target="_blank" rel="noreferrer noopener">samedi</a> et <a
 href="https://cda66.athle.fr/upload/ssites/001416/competitions/260412.pdf"
 target="_blank" rel="noreferrer noopener">dimanche</a></p>
URL;VALUE=URI:https://lac11.sportsregions.fr/evenements/2026/04/11/championnat-departemental-depreuves-individuelles-2428496
END:VEVENT
END:VCALENDAR
