BEGIN:VCALENDAR
VERSION:2.0
PRODID:-//hacksw/handcal//NONSGML v1.0//EN
BEGIN:VEVENT
SUMMARY:NATURE TRAIL BOUTENAC
UID:a449576f-d805-4fb8-af01-70c98d54a1df
DTSTART:20260327T230000Z
DTEND:20260328T230000Z
LOCATION:Localisation   
CATEGORIES:Sportif
STATUS:
DESCRIPTION:<p><a
 href="https://www.betrail.run/race/nature.trail.boutenac/2026/overview"
 target="_blank" rel="noreferrer noopener"><b>lien infos site interne
 betrail</b></a></p>
URL;VALUE=URI:https://lac11.sportsregions.fr/evenements/2026/03/28/nature-trail-boutenac-2427866
END:VEVENT
END:VCALENDAR
