BEGIN:VCALENDAR
VERSION:2.0
PRODID:-//hacksw/handcal//NONSGML v1.0//EN
BEGIN:VEVENT
SUMMARY:TRAIL DE FONTFROIDE, support chpt d'Occitanie de trail
UID:9eb8acae-0960-458d-899d-f5253e52e60d
DTSTART:20260313T230000Z
DTEND:20260315T230000Z
LOCATION:Localisation   
CATEGORIES:Sportif
STATUS:
DESCRIPTION:<p><strong><a
 href="https://athle-occitanie.fr/wp/fontfroide-au-coeur-du-trail-regional-et-record-de-participations/"
 target="_blank" rel="noreferrer noopener">ICI LIEN ARTICLE SITE
 LAO</a></strong></p>
 
 <p> </p>
 
 <p
 style="text-align:justify;background-color:#ffffff;"><span
 style="font-size:11pt;"><span style="font-family:Arial,
 sans-serif;"><span style="color:#1f1f1f;"><span
 style="background-color:#ffffff;"><span
 style="font-weight:700;"><span style="font-style:normal;"><span
 style="text-decoration:none;">2 titres de vices-champions de trail
 remportes a Fontfroide
 :</span></span></span></span></span></span></span></p>
 
 <p
 style="text-align:justify;background-color:#ffffff;"><span
 style="font-size:11pt;"><span style="font-family:Arial,
 sans-serif;"><span style="color:#1f1f1f;"><span
 style="background-color:#ffffff;"><span
 style="font-weight:400;"><span style="font-style:normal;"><span
 style="text-decoration:none;">Plusieurs licencies du LAC etaient
 engages sur le Trail de Fontfroide (2400 coureurs), dispute dans des
 conditions meteorologiques difficiles. Sur le format annonce de 35 km
 mais porte a pres de 38 km, pour 1500 m de denivele positif, Mathieu
 Bisserie realise une tres belle performance en 4h38, un mois
 seulement apres avoir boucle le Marathon de Seville en
 3h34.</span></span></span></span></span></span></span></p>
 
 <p
 style="text-align:justify;background-color:#ffffff;"><span
 style="font-size:11pt;"><span style="font-family:Arial,
 sans-serif;"><span style="color:#1f1f1f;"><span
 style="background-color:#ffffff;"><span
 style="font-weight:400;"><span style="font-style:normal;"><span
 style="text-decoration:none;">Agniezkha Filippoz, pour sa premiere
 participation sur cette distance, termine en 5h36, tandis que
 Christelle Eyraud, plus habituee au bitume, signe egalement une belle
 course en
 5h52.</span></span></span></span></span></span></span></p>
 
 <p
 style="text-align:justify;background-color:#ffffff;"><span
 style="font-size:11pt;"><span style="font-family:Arial,
 sans-serif;"><span style="color:#1f1f1f;"><span
 style="background-color:#ffffff;"><span
 style="font-weight:400;"><span style="font-style:normal;"><span
 style="text-decoration:none;">La triplette Coralie Randy, Laura
 Toustou et Muriel Rey Cadours franchit la ligne en 6h00, cette
 derniere ayant elle aussi couru le marathon de Seville il y a un mois
 (4h11). Nathalie Bisserie termine en 6h12 et decroche une 6ᵉ place
 dans sa categorie, tandis que Ludovic Goueilhe boucle l’epreuve en
 6h29, une semaine apres sa participation au Black Mountain
 Trail.</span></span></span></span></span></span></span></p>
 
 <p
 style="text-align:justify;background-color:#ffffff;"><span
 style="font-size:11pt;"><span style="font-family:Arial,
 sans-serif;"><span style="color:#1f1f1f;"><span
 style="background-color:#ffffff;"><span
 style="font-weight:400;"><span style="font-style:normal;"><span
 style="text-decoration:none;">Sur le format 55 km,
 </span></span></span></span></span></span></span><span
 style="font-size:11pt;"><span style="font-family:Arial,
 sans-serif;"><span style="color:#1f1f1f;"><span
 style="background-color:#ffffff;"><span
 style="font-weight:700;"><span style="font-style:normal;"><span
 style="text-decoration:none;">Pauline Zapella
 </span></span></span></span></span></span></span><span
 style="font-size:11pt;"><span style="font-family:Arial,
 sans-serif;"><span style="color:#1f1f1f;"><span
 style="background-color:#ffffff;"><span
 style="font-weight:400;"><span style="font-style:normal;"><span
 style="text-decoration:none;">realise une grande performance malgre
 des ennuis digestifs en terminant en 7h11, ce qui lui vaut le titre
 </span></span></span></span></span></span></span><span
 style="font-size:11pt;"><span style="font-family:Arial,
 sans-serif;"><span style="color:#1f1f1f;"><span
 style="background-color:#ffffff;"><span
 style="font-weight:700;"><span style="font-style:normal;"><span
 style="text-decoration:none;">de vice-championne d’Occitanie de
 trail.</span></span></span></span></span></span></span><span
 style="font-size:11pt;"><span style="font-family:Arial,
 sans-serif;"><span style="color:#1f1f1f;"><span
 style="background-color:#ffffff;"><span
 style="font-weight:700;"><span style="font-style:normal;"><span
 style="text-decoration:none;">Mathieu
 Perez</span></span></span></span></span></span></span><span
 style="font-size:11pt;"><span style="font-family:Arial,
 sans-serif;"><span style="color:#1f1f1f;"><span
 style="background-color:#ffffff;"><span
 style="font-weight:400;"><span style="font-style:normal;"><span
 style="text-decoration:none;">, en 5h55, se classe dans les 20
 premiers et devient lui aussi
 </span></span></span></span></span></span></span><span
 style="font-size:11pt;"><span style="font-family:Arial,
 sans-serif;"><span style="color:#1f1f1f;"><span
 style="background-color:#ffffff;"><span
 style="font-weight:700;"><span style="font-style:normal;"><span
 style="text-decoration:none;">vice-champion
 d’Occitanie</span></span></span></span></span></span></span><span
 style="font-size:11pt;"><span style="font-family:Arial,
 sans-serif;"><span style="color:#1f1f1f;"><span
 style="background-color:#ffffff;"><span
 style="font-weight:400;"><span style="font-style:normal;"><span
 style="text-decoration:none;"> dans sa categorie. David Descamps
 prend la 4ᵉ place de sa categorie en 6h42, tandis que Patrice Lalet
 termine en 7h57 pour ses debuts sur longue
 distance.</span></span></span></span></span></span></span></p>
 
 <p
 style="text-align:justify;background-color:#ffffff;"><span
 style="font-size:11pt;"><span style="font-family:Arial,
 sans-serif;"><span style="color:#1f1f1f;"><span
 style="background-color:#ffffff;"><span
 style="font-weight:400;"><span style="font-style:normal;"><span
 style="text-decoration:none;">Sur le format 18 km, Julie
 Marande-Hervieu boucle le parcours en 2h47 dans des conditions
 difficiles.</span></span></span></span></span></span></span></p>
 
 <p
 style="text-align:justify;background-color:#ffffff;"><span
 style="font-size:11pt;"><span style="font-family:Arial,
 sans-serif;"><span style="color:#1f1f1f;"><span
 style="background-color:#ffffff;"><span
 style="font-weight:400;"><span style="font-style:normal;"><span
 style="text-decoration:none;">Felicitations a tous
 ! </span></span></span></span></span></span></span></p>
 
 <p> </p>
URL;VALUE=URI:https://lac11.sportsregions.fr/evenements/2026/03/14/trail-de-fontfroide-support-chpt-doccitanie-de-trail-2429904
END:VEVENT
END:VCALENDAR
