BEGIN:VCALENDAR
VERSION:2.0
PRODID:-//hacksw/handcal//NONSGML v1.0//EN
BEGIN:VEVENT
SUMMARY:FETE DE L'ATHLETISME AUDOIS 13 mars 2026
UID:4b7a358b-42b5-4e9f-97f1-91a5dca95816
DTSTART:20260312T230000Z
DTEND:20260313T230000Z
LOCATION:Localisation   
CATEGORIES:Festif
STATUS:
DESCRIPTION:<p>💙<span style="font-size:11pt;"><span
 style="font-family:Arial, sans-serif;"><span
 style="color:#1f1f1f;"><span style="background-color:#ffffff;"><span
 style="font-weight:700;"><span style="font-style:normal;"><span
 style="text-decoration:none;"> L'athlete audois de l'annee est
 chaurien pour la 3eme annee consecutive ! 🥇
 </span></span></span></span></span></span></span></p>
 
 <p
 style="text-align:justify;background-color:#ffffff;"><span
 style="font-size:11pt;"><span style="font-family:Arial,
 sans-serif;"><span style="color:#1f1f1f;"><span
 style="background-color:#ffffff;"><span
 style="font-weight:400;"><span style="font-style:normal;"><span
 style="text-decoration:none;">C'est
 </span></span></span></span></span></span></span><span
 style="font-size:11pt;"><span style="font-family:Arial,
 sans-serif;"><span style="color:#1f1f1f;"><span
 style="background-color:#ffffff;"><span
 style="font-weight:700;"><span style="font-style:normal;"><span
 style="text-decoration:none;">Valentin 
 Clarac</span></span></span></span></span></span></span><span
 style="font-size:11pt;"><span style="font-family:Arial,
 sans-serif;"><span style="color:#1f1f1f;"><span
 style="background-color:#ffffff;"><span
 style="font-weight:400;"><span style="font-style:normal;"><span
 style="text-decoration:none;">, par ailleurs recompense pour le
 challenge piste Espoir, qui a le privilege de completer le tableau
 d'honneur du club.  Titre bien merite pour ce jeune qui allie etudes
 en licence de physique en parallele de sa vie sportive.
 </span></span></span></span></span></span></span></p>
 
 <p
 style="text-align:justify;background-color:#ffffff;">😃 <span
 style="font-size:11pt;"><span style="font-family:Arial,
 sans-serif;"><span style="color:#1f1f1f;"><span
 style="background-color:#ffffff;"><span
 style="font-weight:400;"><span style="font-style:normal;"><span
 style="text-decoration:none;">Valentin est mis en lumiere pour ses
 performances et son implication dans l'equipe du LAC et aussi sous le
 maillot d'ATHLE11, notamment pour les competitions des
 Interclubs. </span></span></span><span
 style="font-weight:700;"><span style="font-style:normal;"><span
 style="text-decoration:none;">❤️</span></span></span></span></span></span></span></p>
 
 <p
 style="text-align:justify;background-color:#ffffff;"><span
 style="font-size:11pt;"><span style="font-family:Arial,
 sans-serif;"><span style="color:#1f1f1f;"><span
 style="background-color:#ffffff;"><span
 style="font-weight:400;"><span style="font-style:normal;"><span
 style="text-decoration:none;">Succes personnel, mais aussi succes
 collectif du club,  resultat d'un travail regulier et serieux de la
 part de tous les benevoles du club, administratifs et entraineurs,
 qui s'investissent a 100%.  Encore felicitations aux entraineurs et
 aux athletes du LAC pour faire briller les couleurs de l’athletisme
 chaurien aux niveaux regional et national ; en attendant avec
 impatience les championnats de France de la saison estivale pour
 vibrer a nouveau et partager de forts
 moments.</span></span></span></span></span></span></span></p>
 
 <p
 style="text-align:justify;background-color:#ffffff;"><span
 style="font-size:11pt;"><span style="font-family:Arial,
 sans-serif;"><span style="color:#1f1f1f;"><span
 style="background-color:#ffffff;"><span
 style="font-weight:400;"><span style="font-style:normal;"><span
 style="text-decoration:none;">Ecole athle Cross 2026 : Donjar
 Augustan, Gourras Antoine, Lecris Alix, Magne Lya,  Mounal Paranteau
 Nathael, Pean Jade, Sibra Jeanne, Valtat
 Timothe</span></span></span></span></span></span></span></p>
 
 <p
 style="text-align:justify;background-color:#ffffff;"><span
 style="font-size:11pt;"><span style="font-family:Arial,
 sans-serif;"><span style="color:#1f1f1f;"><span
 style="background-color:#ffffff;"><span
 style="font-weight:400;"><span style="font-style:normal;"><span
 style="text-decoration:none;">Challenge Cross 2026 et Piste : Cedina
 et Valentina Adao da
 Silva</span></span></span></span></span></span></span></p>
 
 <p
 style="text-align:justify;background-color:#ffffff;"><span
 style="font-size:11pt;"><span style="font-family:Arial,
 sans-serif;"><span style="color:#1f1f1f;"><span
 style="background-color:#ffffff;"><span
 style="font-weight:400;"><span style="font-style:normal;"><span
 style="text-decoration:none;">Challenge Piste Espoir : Clarac
 Valentin, Fabre Mathieu, Liehoun
 Axelle</span></span></span></span></span></span></span></p>
 
 <p
 style="text-align:justify;background-color:#ffffff;"><span
 style="font-size:11pt;"><span style="font-family:Arial,
 sans-serif;"><span style="color:#1f1f1f;"><span
 style="background-color:#ffffff;"><span
 style="font-weight:400;"><span style="font-style:normal;"><span
 style="text-decoration:none;">Liehoun Manon, Rezig Halima, Wiktor
 Melizer</span></span></span></span></span></span></span></p>
 
 <p
 style="text-align:justify;background-color:#ffffff;">Felicitations a
 tous et bonne continuation pour la saison estivale ! <span
 style="font-size:11pt;"><span style="font-family:Arial,
 sans-serif;"><span style="color:#1f1f1f;"><span
 style="background-color:#ffffff;"><span
 style="font-weight:700;"><span style="font-style:normal;"><span
 style="text-decoration:none;">❤️</span></span></span></span></span></span></span>😃
 👏</p>
URL;VALUE=URI:https://lac11.sportsregions.fr/evenements/2026/03/13/fete-de-lathletisme-audois-13-mars-2026-2431105
END:VEVENT
END:VCALENDAR
